BEGIN:VCALENDAR
VERSION:2.0
PRODID:-//H Créateur - ECPv6.1.3//NONSGML v1.0//EN
CALSCALE:GREGORIAN
METHOD:PUBLISH
X-WR-CALNAME:H Créateur
X-ORIGINAL-URL:https://www.hcreateur.fr
X-WR-CALDESC:évènements pour H Créateur
REFRESH-INTERVAL;VALUE=DURATION:PT1H
X-Robots-Tag:noindex
X-PUBLISHED-TTL:PT1H
BEGIN:VTIMEZONE
TZID:Europe/Paris
BEGIN:DAYLIGHT
TZOFFSETFROM:+0100
TZOFFSETTO:+0200
TZNAME:CEST
DTSTART:20220327T010000
END:DAYLIGHT
BEGIN:STANDARD
TZOFFSETFROM:+0200
TZOFFSETTO:+0100
TZNAME:CET
DTSTART:20221030T010000
END:STANDARD
END:VTIMEZONE
BEGIN:VEVENT
DTSTART;TZID=Europe/Paris:20220519T140000
DTEND;TZID=Europe/Paris:20220523T120000
DTSTAMP:20260426T033718
CREATED:20220222T205851Z
LAST-MODIFIED:20220222T205851Z
UID:379-1652968800-1653307200@www.hcreateur.fr
SUMMARY:Création de son tambour médecine
DESCRIPTION:Événement en collaboration avec Yvan Cordier de l’institut Shan Ming. \nSi après quelques temps ou années de pratique de la voie du tambour\, donner vie à votre tambour médecine vous appelle\, de la création de votre cadre jusqu’à la création de votre mailloche\, le tout en pleine nature au sein des éléments\, ce temps est fait pour vous.\nHervé et Yvan vous accompagneront dans ce processus intense de profonde création et transformation.\nPlus d’info dans la plaquette descriptive de ce temps hors du temps\nBienvenue à vous \nlien Facebook
URL:https://www.hcreateur.fr/event/creation-de-son-tambour-medecine/
LOCATION:Divajeu
ORGANIZER;CN="Herv%C3%A9":MAILTO:herve@hcreateur.fr
END:VEVENT
END:VCALENDAR