BEGIN:VCALENDAR
VERSION:2.0
PRODID:-//H Créateur - ECPv6.1.3//NONSGML v1.0//EN
CALSCALE:GREGORIAN
METHOD:PUBLISH
X-ORIGINAL-URL:https://www.hcreateur.fr
X-WR-CALDESC:évènements pour H Créateur
REFRESH-INTERVAL;VALUE=DURATION:PT1H
X-Robots-Tag:noindex
X-PUBLISHED-TTL:PT1H
BEGIN:VTIMEZONE
TZID:Europe/Paris
BEGIN:DAYLIGHT
TZOFFSETFROM:+0100
TZOFFSETTO:+0200
TZNAME:CEST
DTSTART:20230326T010000
END:DAYLIGHT
BEGIN:STANDARD
TZOFFSETFROM:+0200
TZOFFSETTO:+0100
TZNAME:CET
DTSTART:20231029T010000
END:STANDARD
END:VTIMEZONE
BEGIN:VEVENT
DTSTART;TZID=Europe/Paris:20230221T190000
DTEND;TZID=Europe/Paris:20230221T220000
DTSTAMP:20260425T133638
CREATED:20221204T114543Z
LAST-MODIFIED:20221204T114543Z
UID:2078-1677006000-1677016800@www.hcreateur.fr
SUMMARY:Cercle de guérison
DESCRIPTION:Au travers d’un moment de partage\ndans un cercle\, nous créerons un\nespace sacré.\nNous ferons résonner nos tambours et/ou hochets pour entrer en reliance (si vous en avez\, apportez les )\nVous pourrez recevoir en\nconscience des énergies qui vous\nseront profitables.\nVenez explorer votre force intérieure\nTarif : 20€
URL:https://www.hcreateur.fr/event/cercle-de-guerison-2/
LOCATION:Runchy\, lieu dit Runchy\, Mesvres\, 71 190\, France
ORGANIZER;CN="Herv%C3%A9":MAILTO:herve@hcreateur.fr
END:VEVENT
END:VCALENDAR